Workbook
Name __xlfn_IFERROR: #N/A
Name __xlfn_SUMIFS: #N/A
Name ATIVOSouJOVEM: '[1]DADOS (OCULTAR)'!$Y$4:$Y$5
Name CATDESP6: '[1]DADOS (OCULTAR)'!$B$3:$B$180
Name CLASSIF: '[1]DADOS (OCULTAR)'!#REF!
Name Classificação: '[1]DADOS (OCULTAR)'!$F$4:$F$5
Name COMPET: '[1]DADOS (OCULTAR)'!$D$4:$D$75
Name DIVISÃO: '[1]DADOS (OCULTAR)'!$U$3:$U$4
Name Excel_BuiltIn__FilterDatabase: 'CONTÁBIL- FINANCEIRA '!$B$28:$G$274
Name Excel_BuiltIn_Print_Area_8: #REF!
Name Excel_BuiltIn_Print_Area_8: #REF!
Name Excel_BuiltIn_Print_Area_9: #REF!
Name Excel_BuiltIn_Print_Area_9: #REF!
Name MESES: '[1]DADOS (OCULTAR)'!$Z$4:$Z$15
Name NÃO: 'CONTÁBIL- FINANCEIRA '!$G$6
Name Print_Area_0: 'CONTÁBIL- FINANCEIRA '!$C$1:$G$285
Name Print_Area_0_0: 'CONTÁBIL- FINANCEIRA '!$C$1:$G$285
Name Print_Area_0_0_0: 'CONTÁBIL- FINANCEIRA '!$C$1:$G$285
Name Print_Area_0_0_0_0: 'CONTÁBIL- FINANCEIRA '!$C$1:$G$285
Name Print_Area_0_0_0_0_0: 'CONTÁBIL- FINANCEIRA '!$C$1:$G$285
Name RELDESPPG: '[1]DADOS (OCULTAR)'!$AK$3:$AK$188

Sheet CONTÁBIL- FINANCEIRA 
D1: PREFEITURA DA CIDADE DO RECIFE | F1: Janeiro/2020 - Versão 4.0
D2: SECRETARIA DE SAÚDE DO MUNICÍPIO DE RECIFE | F2: MÊS/ANO COMPETÊNCIA | G2: ANO CONTRATO
D3: SECRETARIA DE ADMINISTRAÇÃO E FINANÇAS
D4: GERÊNCIA GERAL DE ADMINISTRAÇÃO, FINANÇAS, CONVÊNIOS E CONTRATOS | F4: ABRIL 2020 | G4: 3 | BB4: Vínculos
D5: DEMONSTRATIVO DE RESULTADO CONTÁBIL - FINANCEIRO MENSAL | BB5: Pessoal
C6: UNIDADE (acessar lista suspensa) | E6: RESPONSÁVEL PELA UNIDADE | F6: ISENTO PIS:
C7: HOSPITAL DA MULHER DO RECIFE | F7: CNPJ | G7: =IFERROR(VLOOKUP($C$7,'[1]DADOS (OCULTAR)'!$P$3:$R$39,3,0),"")
F8: OSS - GESTORA
C9: DESCRIÇÃO | F9: Data Início CG | G9: =IFERROR(VLOOKUP(C7,'[1]DADOS (OCULTAR)'!P3:S39,4,0),"")
C10: RECEITAS OPERACIONAIS | F10: VALOR
C11: Repasse Contrato de Gestão (Fixo+Variável) | F11: =4067553.53+2347952.06 -> 6415505.6
C12: Repasse Contrato de Gestão (Odontologia)
C13: Repasse Contrato de Gestão ENSINO E PESQUISA
C14: Plano de Investimento Autorizado pela Contratante
C15: Repasse Programas Especiais
C16: ( - ) Desconto
C17: TOTAL DE REPASSES | F17: =SUM(F11:G15)-F16 -> 6415505.6
C18: Rendimento de Aplicações Financeiras | F18: 534.68
C19: Rendimento de Aplicações Financeiras do Recurso de Plano de Investimento Autorizado pela Contratante
C20: Reembolso de Despesas
C21: Obtenção de Recursos Externos
C22: Demais Receitas (Convênios)
C23: Outras Receitas
C24: TOTAL OUTRAS RECEITAS | F24: =SUM(F18:G23) -> 534.68
C25: TOTAL DE REPASSES/RECEITAS | F25: =F24+F17 -> 6416040.3
C27: DESPESAS OPERACIONAIS | F27: VALOR
C28: 1. Pessoal | F28: =F29+SUM(F35:F38) -> 5909602.6
C29: 1.1. Ordenados (Não inclui férias, 13º e Rescisão) | F29: =F30+F33+F34 -> 5151344.5
C30: 1.1.1. Assistência Médica | F30: =F31+F32 -> 4322738.2
A31: 1 - Médico | B31: 1.1 | C31: 1.1.1.1. Médicos | F31: ='[1]TCE - ANEXO II - Preencher'!X1 -> 2761895.5 | H31: Informação retirada do Anexo II - Preencher
A32: 2 - Outros Profissionais da Saúde | B32: 1.1 | C32: 1.1.1.2. Outros profissionais de saúde | F32: ='[1]TCE - ANEXO II - Preencher'!X2 -> 1560842.7 | H32: Informação retirada do Anexo II - Preencher
A33: 4 - Assistência Odontológica | B33: 1.1 | C33: 1.1.2. Assistência Odontológica | F33: ='[1]TCE - ANEXO II - Preencher'!X4 -> 0 | H33: Informação retirada do Anexo II - Preencher
A34: 3 - Administrativo | B34: 1.1 | C34: 1.1.3. Administrativo | F34: ='[1]TCE - ANEXO II - Preencher'!X3 -> 828606.25 | H34: Informação retirada do Anexo II - Preencher
A35: 2 - FGTS | B35: 1.2 | C35: 1.2. FGTS | F35: ='[1]MEM.CÁLC.FP.'!$D$117 -> 413188.22 | H35: Informação retirada da MEM.CÁLC.FP.
A36: 1 - PIS | B36: 1.2 | C36: 1.3. PIS | F36: =IF(G6="SIM","",'[1]MEM.CÁLC.FP.'!$D$118) -> 51686.88 | H36: Informação retirada da MEM.CÁLC.FP.
A37: 1.99 - Outras Depesas com Pessoal | B37: 1.99 | C37: 1.4. Benefícios | F37: ='[1]MEM.CÁLC.FP.'!$C$121 -> 74353.81 | H37: Informação retirada da MEM.CÁLC.FP.
C38: 1.5. Despesas com Provisões (Férias + 13º + Rescisões) | F38: =F39+F43+F47 -> 219029.26
C39: 1.5.1. Total Férias | F39: =SUM(F40:G42) -> 148758.69
C40: 1.5.1.2. Proventos Férias | F40: =SUM('[1]MEM.CÁLC.FP.'!D6:D7) -> 136475.86 | H40: Informação retirada da MEM.CÁLC.FP.
A41: 2 - FGTS | B41: 1.2 | C41: 1.5.1.2. FGTS s/ Férias | F41: =SUM('[1]MEM.CÁLC.FP.'!F6:F7) -> 10918.069 | H41: Informação retirada da MEM.CÁLC.FP.
...
